BEGIN:VCALENDAR
VERSION:2.0
PRODID:-//Squarespace Inc/Squarespace 6//v6//EN
BEGIN:VEVENT
UID:57f483e62994ca0ac8790c4f@squarespace.com
DTSTAMP:20161005T044614Z
DTSTART:20161011T220000Z
DTEND:20161012T000000Z
SUMMARY:Boost Business with Social Media
GEO:-37.897921;144.670812
LOCATION:Wyndham Civic Centre\, 45 Princes Highway\, Werribee\, VIC\, 3030\
 , Australia
END:VEVENT
END:VCALENDAR
