BEGIN:VCALENDAR
VERSION:2.0
PRODID:-//Squarespace Inc/Squarespace 6//v6//EN
BEGIN:VEVENT
UID:57f47f9a197aea90e661cdc6@squarespace.com
DTSTAMP:20161019T001118Z
DTSTART:20161019T220000Z
DTEND:20161020T000000Z
SUMMARY:Geelong Edition: Build Your Business Website with Wordpress
GEO:-38.151839;144.35555
LOCATION:Australia Post Small Business Hive Geelong\, 108 Gheringhap Street
 \, Geelong\, VIC\, 3220\, Australia
END:VEVENT
END:VCALENDAR
