BEGIN:VCALENDAR
VERSION:2.0
PRODID:-//Squarespace Inc/Squarespace 6//v6//EN
BEGIN:VEVENT
UID:585769212e69cfba3ccf5390@squarespace.com
DTSTAMP:20170428T045623Z
DTSTART:20170503T080000Z
DTEND:20170503T100000Z
SUMMARY:Getting Started with Social Media
GEO:-37.765925;145.044571
LOCATION:Council Chambers\, Banyule Customer Service Centre\, 275 Upper Hei
 delberg Road\, Ivanhoe\, VIC\, 3079\, Australia
END:VEVENT
END:VCALENDAR
