BEGIN:VCALENDAR
VERSION:2.0
PRODID:-//Squarespace Inc/Squarespace 6//v6//EN
BEGIN:VEVENT
UID:5857645a46c3c4926d0018a7@squarespace.com
DTSTAMP:20170531T041117Z
DTSTART:20170621T080000Z
DTEND:20170621T100000Z
SUMMARY:Search Engine Optimisation for Small Business
GEO:-37.785531;145.13307
LOCATION:Manningham Civic Centre\, 699 Doncaster Road\, Doncaster\, VIC\, 3
 108\, Australia
END:VEVENT
END:VCALENDAR
