BEGIN:VCALENDAR
VERSION:2.0
PRODID:-//Squarespace Inc/Squarespace 6//v6//EN
BEGIN:VEVENT
UID:5848ea918419c2661e44f2b3@squarespace.com
DTSTAMP:20170428T061909Z
DTSTART:20170412T080000Z
DTEND:20170412T100000Z
SUMMARY:Get Found on Google with SEO
GEO:-37.897921;144.670812
LOCATION:Wyndham City Council\, 45 Princes Highway\, Werribee\, VIC\, 3030\
 , Australia
END:VEVENT
END:VCALENDAR
