BEGIN:VCALENDAR
VERSION:2.0
PRODID:-//Squarespace Inc/Squarespace 6//v6//EN
BEGIN:VEVENT
UID:5848edaef7e0ab2a69b01ae2@squarespace.com
DTSTAMP:20170428T045743Z
DTSTART:20170524T080000Z
DTEND:20170524T100000Z
SUMMARY:Implement Visual Marketing through Instagram and Pinterest
GEO:-37.765925;145.044571
LOCATION:Council Chambers\, Banyule Customer Service Centre\, 275 Upper Hei
 delberg Road\, Ivanhoe\, VIC 3079\, Australia
END:VEVENT
END:VCALENDAR
