BEGIN:VCALENDAR
VERSION:2.0
PRODID:-//Squarespace Inc/Squarespace 6//v6//EN
BEGIN:VEVENT
UID:57d744b6b8a79b6151da283e@squarespace.com
DTSTAMP:20170428T045656Z
DTSTART:20170510T080000Z
DTEND:20170510T100000Z
SUMMARY:Introduction to Facebook for Business
GEO:-37.765925;145.044571
LOCATION:Council Chambers\, Banyule Council Service Centre\, 275 Upper Heid
 elberg Road\, Ivanhoe\, VIC 3079\, Australia
END:VEVENT
END:VCALENDAR
