BEGIN:VCALENDAR
VERSION:2.0
PRODID:-//Squarespace Inc/Squarespace 6//v6//EN
BEGIN:VEVENT
UID:57d777fee58c62769f2000ba@squarespace.com
DTSTAMP:20170302T002706Z
DTSTART:20170315T133000Z
DTEND:20170315T153000Z
SUMMARY:DIGITAL SERIES: Get Savvy with Online Marketing
GEO:-37.688506;145.111123
LOCATION:Melbourne Innovation Centre\, 61 Civic Drive\, Greensborough\, VIC
 \, 3088\, Australia
END:VEVENT
END:VCALENDAR
