BEGIN:VCALENDAR
VERSION:2.0
PRODID:-//Squarespace Inc/Squarespace 6//v6//EN
BEGIN:VEVENT
UID:57d745ae2994ca43043dc6e7@squarespace.com
DTSTAMP:20170428T045722Z
DTSTART:20170517T080000Z
DTEND:20170517T100000Z
SUMMARY:Boost Your Facebook Presence with Advertising (advanced)
GEO:-37.765925;145.044571
LOCATION:Council Chambers\, Banyule Customer Service Centre\, 275 Upper Hei
 delberg Road\, Ivanhoe\, VIC\, 3079\, Australia
END:VEVENT
END:VCALENDAR
