BEGIN:VCALENDAR
VERSION:2.0
PRODID:-//Squarespace Inc/Squarespace 6//v6//EN
BEGIN:VEVENT
UID:5875a8ab37c5819aaaae0f88@squarespace.com
DTSTAMP:20170117T230036Z
DTSTART:20170208T230000Z
DTEND:20170209T010000Z
SUMMARY:Year of the Entrepreneur: A Strategic Roadmap
GEO:-38.151839;144.35555
LOCATION:Geelong Small Business Hive\, 108 Gheringhap Street\, Geelong\, VI
 C\, 3220\, Australia
END:VEVENT
END:VCALENDAR
