BEGIN:VCALENDAR
VERSION:2.0
PRODID:-//Squarespace Inc/Squarespace 6//v6//EN
BEGIN:VEVENT
UID:5875ae6637c5819aaaae5258@squarespace.com
DTSTAMP:20170302T002512Z
DTSTART:20170309T230000Z
DTEND:20170310T010000Z
SUMMARY:DIGITAL SERIES: Boost Business with Social Media
GEO:-37.688506;145.111123
LOCATION:Melbourne Innovation Centre\, 61 Civic Drive\, Greensborough\, VIC
 \, 3088\, Australia
END:VEVENT
END:VCALENDAR
