BEGIN:VCALENDAR
VERSION:2.0
PRODID:-//Squarespace Inc/Squarespace 6//v6//EN
BEGIN:VEVENT
UID:5875bbc8197aeadff39f9b54@squarespace.com
DTSTAMP:20170117T230353Z
DTSTART:20170419T220000Z
DTEND:20170420T000000Z
SUMMARY:Effective SEO: Keywords & Useful Google Tools
GEO:-38.151839;144.35555
LOCATION:Geelong Small Business Hive\, 108 Gheringhap Street\, Geelong\, VI
 C\, 3220\, Australia
END:VEVENT
END:VCALENDAR
