BEGIN:VCALENDAR
VERSION:2.0
PRODID:-//Squarespace Inc/Squarespace 6//v6//EN
BEGIN:VEVENT
UID:598cfbb7d7bdcee3d51d82d8@squarespace.com
DTSTAMP:20170811T005049Z
DTSTART:20171017T223000Z
DTEND:20171018T003000Z
SUMMARY:Build Relationships with LinkedIn and Twitter
GEO:-37.688362;145.111147
LOCATION:Melbourne Innovation Centre\, 61 Civic Drive\, Greensborough\, VIC
 \, 3088\, Australia
END:VEVENT
END:VCALENDAR
