BEGIN:VCALENDAR
VERSION:2.0
PRODID:-//Squarespace Inc/Squarespace 6//v6//EN
BEGIN:VEVENT
UID:598bdd28f9a61ea2b0da14da@squarespace.com
DTSTAMP:20170811T005357Z
DTSTART:20171003T223000Z
DTEND:20171004T003000Z
SUMMARY:Implement Visual Marketing through Instagram and Pinterest
END:VEVENT
END:VCALENDAR
