BEGIN:VCALENDAR
VERSION:2.0
PRODID:-//Squarespace Inc/Squarespace 6//v6//EN
BEGIN:VEVENT
UID:58aa6a935016e11d7e61f453@squarespace.com
DTSTAMP:20170302T002839Z
DTSTART:20170322T220000Z
DTEND:20170323T000000Z
SUMMARY:DIGITAL SERIES: Get Found on Google with SEO
GEO:-37.688506;145.111123
LOCATION:Melbourne Innovation Centre\, 61 Civic Drive\, Greensborough\, VIC
 \, 3088\, Australia
END:VEVENT
END:VCALENDAR
