BEGIN:VCALENDAR
VERSION:2.0
PRODID:-//Squarespace Inc/Squarespace 6//v6//EN
BEGIN:VEVENT
UID:58b60e72ebbd1a10e5871de1@squarespace.com
DTSTAMP:20170302T002940Z
DTSTART:20170330T220000Z
DTEND:20170331T000000Z
SUMMARY:*ENTREPRENEUR SERIES: Raising Capital for your Startup
GEO:-37.688506;145.111123
LOCATION:Melbourne Innovation Centre\, 61 Civic Drive\, Greensborough\, VIC
 \, 3088\, Australia
END:VEVENT
END:VCALENDAR
