BEGIN:VCALENDAR
VERSION:2.0
PRODID:-//Squarespace Inc/Squarespace 6//v6//EN
BEGIN:VEVENT
UID:5857620a6a49634cd562593b@squarespace.com
DTSTAMP:20170526T043720Z
DTSTART:20170531T080000Z
DTEND:20170531T100000Z
SUMMARY:Building Relationships with LinkedIn and Twitter
GEO:-37.785531;145.13307
LOCATION:Manningham Civic Centre\, 699 Doncaster Road\, Doncaster\, VIC\, 3
 108\, Australia
END:VEVENT
END:VCALENDAR
