BEGIN:VCALENDAR
VERSION:2.0
PRODID:-//Squarespace Inc/Squarespace 6//v6//EN
BEGIN:VEVENT
UID:5900201febbd1a6b493c22af@squarespace.com
DTSTAMP:20170426T043056Z
DTSTART:20170504T080000Z
DTEND:20170504T100000Z
SUMMARY:Cyber Security for Small Business
GEO:-37.688505;145.11112
LOCATION:Melbourne Innovation Centre\, 61 Civic Drive\, Greensborough\, VIC
 \, 3088\, Australia
END:VEVENT
END:VCALENDAR
