BEGIN:VCALENDAR
VERSION:2.0
PRODID:-//Squarespace Inc/Squarespace 6//v6//EN
BEGIN:VEVENT
UID:59420c8bd482e9324068d538@squarespace.com
DTSTAMP:20170615T043426Z
DTSTART:20170712T080000Z
DTEND:20170712T100000Z
SUMMARY:DIY Build a Website for your Small Business
GEO:-37.688505;145.11112
LOCATION:Melbourne Innovation Centre\, Building B\, 61 Civic Drive\, Greens
 borough\, VIC\, Australia
END:VEVENT
END:VCALENDAR
