BEGIN:VCALENDAR
VERSION:2.0
PRODID:-//Squarespace Inc/Squarespace 6//v6//EN
BEGIN:VEVENT
UID:59420e5acd0f68f4fdc6a486@squarespace.com
DTSTAMP:20170615T044745Z
DTSTART:20170719T080000Z
DTEND:20170719T100000Z
SUMMARY:Effective SEO: Keywords and Useful Google Tools
GEO:-37.688505;145.11112
LOCATION:Melbourne Innovation Centre\, Building B\, 61 Civic Drive\, Greens
 borough\, VIC\, Australia
END:VEVENT
END:VCALENDAR
