BEGIN:VCALENDAR
VERSION:2.0
PRODID:-//Squarespace Inc/Squarespace 6//v6//EN
BEGIN:VEVENT
UID:594a122d2cba5eebded61a32@squarespace.com
DTSTAMP:20170621T065140Z
DTSTART:20170705T080000Z
DTEND:20170705T100000Z
SUMMARY:Get Savvy with Online Marketing
GEO:-37.688505;145.11112
LOCATION:Melbourne Innovation Centre\, 61 Civic Drive\, Greensborough\, VIC
 \, 3088\, Australia
END:VEVENT
END:VCALENDAR
