BEGIN:VCALENDAR
VERSION:2.0
PRODID:-//Squarespace Inc/Squarespace 6//v6//EN
BEGIN:VEVENT
UID:5987e65b4c0dbf146071f798@squarespace.com
DTSTAMP:20170811T005323Z
DTSTART:20170919T233000Z
DTEND:20170920T013000Z
SUMMARY:Boost Business with Social Media
GEO:-37.688362;145.111147
LOCATION:Melbourne Innovation Centre\, 61 Civic Drive\, Greensborough\, VIC
 \, 3088\, Australia
END:VEVENT
END:VCALENDAR
