BEGIN:VCALENDAR
VERSION:2.0
PRODID:-//Squarespace Inc/Squarespace 6//v6//EN
BEGIN:VEVENT
UID:59841573f14aa175c7618929@squarespace.com
DTSTAMP:20170811T005307Z
DTSTART:20170905T233000Z
DTEND:20170906T013000Z
SUMMARY:DIY Build a Website for your Small Business
GEO:-37.688362;145.111147
LOCATION:Melbourne Innovation Centre\, 61 Civic Drive\, Greensborough\, VIC
 \, 3088\, Australia
END:VEVENT
END:VCALENDAR
