BEGIN:VCALENDAR
VERSION:2.0
PRODID:-//Squarespace Inc/Squarespace 6//v6//EN
BEGIN:VEVENT
UID:5bd7ce10104c7bcec740bd16@squarespace.com
DTSTAMP:20181030T032338Z
DTSTART:20181120T223000Z
DTEND:20181121T013000Z
SUMMARY:Boost Business with Facebook Advertising 
GEO:-37.687936;145.111752
LOCATION:Melbourne Innovation Centre\, 61 Civic Drive\, Greensborough\, VIC
 \,\, 3088\, Australia
END:VEVENT
END:VCALENDAR
