BEGIN:VCALENDAR
VERSION:2.0
PRODID:-//Squarespace Inc/Squarespace 6//v6//EN
BEGIN:VEVENT
UID:5bd7d31624a694d57239856f@squarespace.com
DTSTAMP:20181030T034532Z
DTSTART:20181128T063000Z
DTEND:20181128T093000Z
SUMMARY:SEO Foundations for Small Business
GEO:-37.766573;144.956494
LOCATION:Brunswick Business Incubator\, 420 Victoria Street\, Brunswick\, V
 IC 3056\, Australia
END:VEVENT
END:VCALENDAR
