BEGIN:VCALENDAR
VERSION:2.0
PRODID:-//Squarespace Inc/Squarespace 6//v6//EN
BEGIN:VEVENT
UID:5bd7cb20e2c4836f535aed4e@squarespace.com
DTSTAMP:20181030T031917Z
DTSTART:20181107T063000Z
DTEND:20181107T093000Z
SUMMARY:Improve Cyber Security for Your Small Business
GEO:-37.766573;144.956494
LOCATION:Brunswick Business Incubator\, 420 Victoria Street\, Brunswick\, V
 IC 3056\, Australia
END:VEVENT
END:VCALENDAR
