BEGIN:VCALENDAR
VERSION:2.0
PRODID:-//Squarespace Inc/Squarespace 6//v6//EN
BEGIN:VEVENT
UID:5bd9106088251bdf71746420@squarespace.com
DTSTAMP:20181031T022002Z
DTSTART:20181101T220000Z
DTEND:20181102T060000Z
SUMMARY:Free Coworking Day at MIC
GEO:-37.687936;145.111752
LOCATION:Melbourne Innovation Centre\, 61 Civic Drive\, Greensborough\, VIC
 \, 3088\, Australia
END:VEVENT
END:VCALENDAR
