BEGIN:VCALENDAR
VERSION:2.0
PRODID:-//Squarespace Inc/Squarespace 6//v6//EN
BEGIN:VEVENT
UID:5bd7d24b41920274bba64a21@squarespace.com
DTSTAMP:20181030T034148Z
DTSTART:20181127T223000Z
DTEND:20181128T013000Z
SUMMARY:Engage Real Followers with Instagram
GEO:-37.687936;145.111752
LOCATION:Melbourne Innovation Centre\, 61 Civic Drive\, Greensborough\, VIC
 \, 3088\, Australia
END:VEVENT
END:VCALENDAR
