BEGIN:VCALENDAR
VERSION:2.0
PRODID:-//Squarespace Inc/Squarespace 6//v6//EN
BEGIN:VEVENT
UID:5bd7967e104c7b59cfdaee90@squarespace.com
DTSTAMP:20181030T031839Z
DTSTART:20181106T223000Z
DTEND:20181107T013000Z
SUMMARY:Facebook Simplified for Small Business - Greensborough
GEO:-37.687936;145.111752
LOCATION:Melbourne Innovation Centre\, 61 Civic Drive\, Greensborough\, VIC
 \, 3088
END:VEVENT
END:VCALENDAR
