BEGIN:VCALENDAR
VERSION:2.0
PRODID:-//Squarespace Inc/Squarespace 6//v6//EN
BEGIN:VEVENT
UID:5bd7d3ebe5e5f0bf887ad0ca@squarespace.com
DTSTAMP:20181030T034855Z
DTSTART:20181204T223000Z
DTEND:20181204T233000Z
SUMMARY:Create Marketing Campaigns with Mailchimp
GEO:40.720756;-74.000761
LOCATION:Melbourne Innovation Centre\, 61 Civic Drive\, Greensborough\, VIC
 \, 3088
END:VEVENT
END:VCALENDAR
