BEGIN:VCALENDAR
VERSION:2.0
PRODID:-//Squarespace Inc/Squarespace 6//v6//EN
BEGIN:VEVENT
UID:5bd7d56ab208fc05c2663917@squarespace.com
DTSTAMP:20181030T035827Z
DTSTART:20181205T220000Z
DTEND:20181206T060000Z
SUMMARY:FREE COWORKING DAY AND BBQ LUNCH
GEO:40.720756;-74.000761
LOCATION:Melbourne Innovation Centre\, 61 Civic Drive\, Greensborough\, VIC
 \, 3088\, Australia
END:VEVENT
END:VCALENDAR
