BEGIN:VCALENDAR
VERSION:2.0
PRODID:-//Squarespace Inc/Squarespace 6//v6//EN
BEGIN:VEVENT
UID:5900122d8419c2caf4842c38@squarespace.com
DTSTAMP:20180305T052303Z
DTSTART:20180419T000000Z
DTEND:20180419T040000Z
SUMMARY:Take Your Business Online 2018
GEO:-38.151839;144.35555
LOCATION:Geelong Small Business Hive\, 108 Gheringhap Street\, Geelong\, VI
 C\, 3220\, Australia
END:VEVENT
END:VCALENDAR
