BEGIN:VCALENDAR
VERSION:2.0
PRODID:-//Squarespace Inc/Squarespace 6//v6//EN
BEGIN:VEVENT
UID:5a373af19140b76437021fe4@squarespace.com
DTSTAMP:20171218T040503Z
DTSTART:20180426T070000Z
DTEND:20180426T110000Z
SUMMARY:Darebin Pitch IT
END:VEVENT
END:VCALENDAR
