BEGIN:VCALENDAR
VERSION:2.0
PRODID:-//Squarespace Inc/Squarespace 6//v6//EN
BEGIN:VEVENT
UID:5a66a31253450a2008978669@squarespace.com
DTSTAMP:20180201T050744Z
DTSTART:20180404T230000Z
DTEND:20180405T070000Z
SUMMARY:Free Coworking Day
GEO:-37.688424;145.11163
LOCATION:Melbourne Innovation Centre\, 61 Civic Drive\, Greensborough\, VIC
 \, 3088\, Australia
END:VEVENT
END:VCALENDAR
