BEGIN:VCALENDAR
VERSION:2.0
PRODID:-//Squarespace Inc/Squarespace 6//v6//EN
BEGIN:VEVENT
UID:57d5e4088419c258721d9b37@squarespace.com
DTSTAMP:20160913T034829Z
DTSTART:20160921T220000Z
DTEND:20160922T000000Z
SUMMARY:DIY Build a Website for Your Small Business
GEO:-38.151839;144.35555
LOCATION:Australia Post Small Business Hive\, 108 Gheringhap Street\, Geelo
 ng\, VIC\, 3220\, Australia
END:VEVENT
END:VCALENDAR
