BEGIN:VCALENDAR
VERSION:2.0
PRODID:-//Squarespace Inc/Squarespace 6//v6//EN
BEGIN:VEVENT
UID:5a669d5ae4966b0ac3b51d8a@squarespace.com
DTSTAMP:20180123T024911Z
DTSTART:20180131T220000Z
DTEND:20180201T060000Z
SUMMARY:Free Coworking Day
END:VEVENT
END:VCALENDAR
