BEGIN:VCALENDAR
VERSION:2.0
PRODID:-//Squarespace Inc/Squarespace 6//v6//EN
BEGIN:VEVENT
UID:5a66a0078165f59d84a14c7b@squarespace.com
DTSTAMP:20180123T025058Z
DTSTART:20180228T220000Z
DTEND:20180301T060000Z
SUMMARY:Free Coworking Day
END:VEVENT
END:VCALENDAR
