BEGIN:VCALENDAR
VERSION:2.0
PRODID:-//Squarespace Inc/Squarespace 6//v6//EN
BEGIN:VEVENT
UID:5abb0217758d462671ad20da@squarespace.com
DTSTAMP:20180328T024740Z
DTSTART:20180503T230000Z
DTEND:20180504T070000Z
SUMMARY:Free Coworking Day
GEO:-37.688424;145.11163
LOCATION:Melbourne Innovation Centre\, 61 Civic Drive\, Greensborough\, VIC
 \, 3088\, Australia
END:VEVENT
END:VCALENDAR
