BEGIN:VCALENDAR
VERSION:2.0
PRODID:-//Squarespace Inc/Squarespace 6//v6//EN
BEGIN:VEVENT
UID:5a728e1724a694cb29ec5a29@squarespace.com
DTSTAMP:20180201T041343Z
DTSTART:20180215T074500Z
DTEND:20180215T103000Z
SUMMARY:Build a Website with Squarespace + How to Create Social Media Posts 
 Like a Pro
GEO:-37.713398;145.14818
LOCATION:Platform 3095\, 965 Main Road\, Eltham\, VIC\, 3095\, Australia
END:VEVENT
END:VCALENDAR
