BEGIN:VCALENDAR
VERSION:2.0
PRODID:-//Squarespace Inc/Squarespace 6//v6//EN
BEGIN:VEVENT
UID:5a8b653e9140b7effc4a3fac@squarespace.com
DTSTAMP:20180220T034205Z
DTSTART:20180315T074500Z
DTEND:20180315T103000Z
SUMMARY:Mailchimp - From Basics to Automated & Trigger Based Campaigns 
GEO:-37.713509;145.147832
LOCATION:Platform 3095\, Eltham Train Station\, 965 Main Rd\, Eltham VIC 30
 95\, Australia
END:VEVENT
END:VCALENDAR
